BEGIN:VCALENDAR
VERSION:2.0
PRODID:-//Epsilon Xi Chapter of Sigma Nu Fraternity - ECPv6.15.20//NONSGML v1.0//EN
CALSCALE:GREGORIAN
METHOD:PUBLISH
X-WR-CALNAME:Epsilon Xi Chapter of Sigma Nu Fraternity
X-ORIGINAL-URL:https://sigmanuolemiss.com
X-WR-CALDESC:Events for Epsilon Xi Chapter of Sigma Nu Fraternity
REFRESH-INTERVAL;VALUE=DURATION:PT1H
X-Robots-Tag:noindex
X-PUBLISHED-TTL:PT1H
BEGIN:VTIMEZONE
TZID:America/Chicago
BEGIN:DAYLIGHT
TZOFFSETFROM:-0600
TZOFFSETTO:-0500
TZNAME:CDT
DTSTART:20110313T080000
END:DAYLIGHT
BEGIN:STANDARD
TZOFFSETFROM:-0500
TZOFFSETTO:-0600
TZNAME:CST
DTSTART:20111106T070000
END:STANDARD
BEGIN:DAYLIGHT
TZOFFSETFROM:-0600
TZOFFSETTO:-0500
TZNAME:CDT
DTSTART:20120311T080000
END:DAYLIGHT
BEGIN:STANDARD
TZOFFSETFROM:-0500
TZOFFSETTO:-0600
TZNAME:CST
DTSTART:20121104T070000
END:STANDARD
BEGIN:DAYLIGHT
TZOFFSETFROM:-0600
TZOFFSETTO:-0500
TZNAME:CDT
DTSTART:20130310T080000
END:DAYLIGHT
BEGIN:STANDARD
TZOFFSETFROM:-0500
TZOFFSETTO:-0600
TZNAME:CST
DTSTART:20131103T070000
END:STANDARD
END:VTIMEZONE
BEGIN:VEVENT
DTSTART;TZID=America/Chicago:20121103T200000
DTEND;TZID=America/Chicago:20121103T210000
DTSTAMP:20260425T102915
CREATED:20120127T072120Z
LAST-MODIFIED:20200527T063805Z
UID:703-1351972800-1351976400@sigmanuolemiss.com
SUMMARY:Ole Miss Football vs. Georgia
DESCRIPTION:
URL:https://sigmanuolemiss.com/event/ole-miss-football-vs-georgia/
LOCATION:MS
CATEGORIES:Public Events
END:VEVENT
BEGIN:VEVENT
DTSTART;TZID=America/Chicago:20121105T190000
DTEND;TZID=America/Chicago:20121105T210000
DTSTAMP:20260425T102915
CREATED:20120127T074448Z
LAST-MODIFIED:20200527T064657Z
UID:717-1352142000-1352149200@sigmanuolemiss.com
SUMMARY:Ole Miss Men's Basketball vs. Montevallo
DESCRIPTION:
URL:https://sigmanuolemiss.com/event/ole-miss-mens-basketball-vs-montevallo/
LOCATION:MS
CATEGORIES:Public Events
END:VEVENT
BEGIN:VEVENT
DTSTART;TZID=America/Chicago:20121109T173000
DTEND;TZID=America/Chicago:20121109T193000
DTSTAMP:20260425T102915
CREATED:20120127T071227Z
LAST-MODIFIED:20200527T061318Z
UID:692-1352482200-1352489400@sigmanuolemiss.com
SUMMARY:Ole Miss Women's Basketball bs. Southeastern Louisiana
DESCRIPTION:
URL:https://sigmanuolemiss.com/event/ole-miss-womens-basketball-bs-southeastern-louisiana/
LOCATION:MS
CATEGORIES:Public Events
END:VEVENT
BEGIN:VEVENT
DTSTART;TZID=America/Chicago:20121109T173000
DTEND;TZID=America/Chicago:20121109T193000
DTSTAMP:20260425T102915
CREATED:20120127T074445Z
LAST-MODIFIED:20200527T064534Z
UID:720-1352482200-1352489400@sigmanuolemiss.com
SUMMARY:Ole Miss Rifle vs. West Virginia
DESCRIPTION:
URL:https://sigmanuolemiss.com/event/ole-miss-rifle-vs-west-virginia/
LOCATION:MS
CATEGORIES:Public Events
END:VEVENT
BEGIN:VEVENT
DTSTART;TZID=America/Chicago:20121110T173000
DTEND;TZID=America/Chicago:20121110T193000
DTSTAMP:20260425T102915
CREATED:20120127T074444Z
LAST-MODIFIED:20200527T064517Z
UID:721-1352568600-1352575800@sigmanuolemiss.com
SUMMARY:Ole Miss Rifle vs. North Carolina State
DESCRIPTION:
URL:https://sigmanuolemiss.com/event/ole-miss-rifle-vs-north-carolina-state/
LOCATION:MS
CATEGORIES:Public Events
END:VEVENT
BEGIN:VEVENT
DTSTART;TZID=America/Chicago:20121110T210000
DTEND;TZID=America/Chicago:20121110T220000
DTSTAMP:20260425T102915
CREATED:20120127T072118Z
LAST-MODIFIED:20200527T062247Z
UID:704-1352581200-1352584800@sigmanuolemiss.com
SUMMARY:Ole Miss Football vs. Vanderbilt
DESCRIPTION:
URL:https://sigmanuolemiss.com/event/ole-miss-football-vs-vanderbilt/
LOCATION:MS
CATEGORIES:Public Events
END:VEVENT
BEGIN:VEVENT
DTSTART;TZID=America/Chicago:20121121T190000
DTEND;TZID=America/Chicago:20121121T210000
DTSTAMP:20260425T102915
CREATED:20120127T074448Z
LAST-MODIFIED:20200527T064633Z
UID:718-1353524400-1353531600@sigmanuolemiss.com
SUMMARY:Ole Miss Volleyball vs. Alabama
DESCRIPTION:
URL:https://sigmanuolemiss.com/event/ole-miss-volleyball-vs-alabama/
LOCATION:MS
CATEGORIES:Public Events
END:VEVENT
BEGIN:VEVENT
DTSTART;TZID=America/Chicago:20121123T160000
DTEND;TZID=America/Chicago:20121123T180000
DTSTAMP:20260425T102915
CREATED:20120127T071229Z
LAST-MODIFIED:20200527T061400Z
UID:693-1353686400-1353693600@sigmanuolemiss.com
SUMMARY:Ole Miss Men's Basketball vs. Lipscomb
DESCRIPTION:
URL:https://sigmanuolemiss.com/event/ole-miss-mens-basketball-vs-lipscomb/
LOCATION:MS
CATEGORIES:Public Events
END:VEVENT
BEGIN:VEVENT
DTSTART;TZID=America/Chicago:20121123T190000
DTEND;TZID=America/Chicago:20121123T210000
DTSTAMP:20260425T102915
CREATED:20120127T074446Z
LAST-MODIFIED:20200527T064603Z
UID:719-1353697200-1353704400@sigmanuolemiss.com
SUMMARY:Ole Miss Volleyball vs. Texas A&M
DESCRIPTION:
URL:https://sigmanuolemiss.com/event/ole-miss-volleyball-vs-texas-am/
LOCATION:MS
CATEGORIES:Public Events
END:VEVENT
BEGIN:VEVENT
DTSTART;TZID=America/Chicago:20121124T200000
DTEND;TZID=America/Chicago:20121124T210000
DTSTAMP:20260425T102915
CREATED:20120127T072121Z
LAST-MODIFIED:20200527T063831Z
UID:702-1353787200-1353790800@sigmanuolemiss.com
SUMMARY:Ole Miss Football vs. Mississippi State
DESCRIPTION:
URL:https://sigmanuolemiss.com/event/ole-miss-football-vs-mississippi-state/
LOCATION:MS
CATEGORIES:Public Events
END:VEVENT
END:VCALENDAR